<?xml version="1.0" encoding="utf-8"?>
	<TileMap version="1.0.0" tilemapservice="http://tms.osgeo.org/1.0.0">
	  <Title>1905 City of Manchester Infectious Diseases.jpg</Title>
	  <Abstract></Abstract>
	  <SRS>EPSG:900913</SRS>
	  <BoundingBox minx="53.42930954110408" miny="-2.29040744906689" maxx="53.55283991548988" maxy="-2.13109453011364"/>
	  <Origin x="53.42930954110408" y="-2.29040744906689"/>
	  <TileFormat width="256" height="256" mime-type="image/png" extension="png"/>
	  <TileSets profile="mercator">
	    <TileSet href="12" units-per-pixel="38.21851413574219" order="12"/>
	    <TileSet href="13" units-per-pixel="19.10925706787109" order="13"/>
	    <TileSet href="14" units-per-pixel="9.55462853393555" order="14"/>
	    <TileSet href="15" units-per-pixel="4.77731426696777" order="15"/>
	    <TileSet href="16" units-per-pixel="2.38865713348389" order="16"/>
	    <TileSet href="17" units-per-pixel="1.19432856674194" order="17"/>
	  </TileSets>
	</TileMap>
	